BEGIN:VCALENDAR
VERSION:2.0
PRODID:-//hacksw/handcal//NONSGML v1.0//EN
CALSCALE:GREGORIAN
BEGIN:VEVENT
LOCATION:Kempten
DESCRIPTION:Sergei Prokofjew: Symphonie Nr. 1 (Symphonie classique) D-Dur op. 25
DTSTART:20240511T140000Z
DTEND:20240511T140000Z
SUMMARY:Hut ab\, Prokofjew!
URL;VALUE=URI:https://muenchner-symphoniker.de/de/node/1270
DTSTAMP:20260425T043437Z
UID:69ec283dd3b53
END:VEVENT
END:VCALENDAR