BEGIN:VCALENDAR
VERSION:2.0
PRODID:-//hacksw/handcal//NONSGML v1.0//EN
CALSCALE:GREGORIAN
BEGIN:VEVENT
LOCATION:Olympiahalle
DESCRIPTION:Joe Hisaishi: Music from the Studio Ghibli Films of Hayao Miyazaki\, restricted_html
DTSTART:20240525T180000Z
DTEND:20240525T180000Z
SUMMARY:Musik der Studio Ghibli Filme von Hayao Miyazaki
URL;VALUE=URI:https://muenchner-symphoniker.de/de/node/1384
DTSTAMP:20260424T230021Z
UID:69ebd9e5b67ce
END:VEVENT
END:VCALENDAR