BEGIN:VCALENDAR
VERSION:2.0
PRODID:-//hacksw/handcal//NONSGML v1.0//EN
CALSCALE:GREGORIAN
BEGIN:VEVENT
LOCATION:Düsseldorf
DESCRIPTION:Joe Hisaishi: Music from the Studio Ghibli Films of Hayao Miyazaki\, restricted_html
DTSTART:20240523T180000Z
DTEND:20240523T180000Z
SUMMARY:Musik der Studio Ghibli Filme von Hayao Miyazaki
URL;VALUE=URI:https://muenchner-symphoniker.de/de/node/1385
DTSTAMP:20260425T002645Z
UID:69ebee259f8d2
END:VEVENT
END:VCALENDAR