BEGIN:VCALENDAR
VERSION:2.0
PRODID:-//hacksw/handcal//NONSGML v1.0//EN
CALSCALE:GREGORIAN
BEGIN:VEVENT
LOCATION:München
DESCRIPTION:
DTSTART:20250119T140000Z
DTEND:20250119T140000Z
SUMMARY:The Sound of Hans Zimmer & John Williams
URL;VALUE=URI:https://muenchner-symphoniker.de/de/node/1443
DTSTAMP:20260422T032602Z
UID:69e823aac18e9
END:VEVENT
END:VCALENDAR