BEGIN:VCALENDAR
VERSION:2.0
PRODID:-//hacksw/handcal//NONSGML v1.0//EN
CALSCALE:GREGORIAN
BEGIN:VEVENT
LOCATION:München
DESCRIPTION:
DTSTART:20250119T183000Z
DTEND:20250119T183000Z
SUMMARY:The Sound of Hans Zimmer & John Williams
URL;VALUE=URI:https://muenchner-symphoniker.de/de/events/sound-hans-zimmer-john-williams-19012025
DTSTAMP:20260422T045853Z
UID:69e8396d11ac0
END:VEVENT
END:VCALENDAR