BEGIN:VCALENDAR
VERSION:2.0
PRODID:-//hacksw/handcal//NONSGML v1.0//EN
CALSCALE:GREGORIAN
BEGIN:VEVENT
LOCATION:Residenzstraße 1\, München\, 80333
DESCRIPTION:Andreas Begert: Bayerische Symphonie\, restricted_html
DTSTART:20241123T190000Z
DTEND:20241123T190000Z
SUMMARY:Bayerische Symphonie - Welturaufführung
URL;VALUE=URI:https://muenchner-symphoniker.de/de/events/bayerische-symphonie-welturauffuehrung-23112024
DTSTAMP:20260425T135513Z
UID:69ecaba1c9ef2
END:VEVENT
END:VCALENDAR