BEGIN:VCALENDAR
VERSION:2.0
PRODID:-//hacksw/handcal//NONSGML v1.0//EN
CALSCALE:GREGORIAN
BEGIN:VEVENT
LOCATION:Promenadenkonzert Innsbruck
DESCRIPTION:
DTSTART:20240721T173000Z
DTEND:20240721T173000Z
SUMMARY:Italienische Sommernacht
URL;VALUE=URI:https://muenchner-symphoniker.de/de/node/1469
DTSTAMP:20260424T042651Z
UID:69ead4eb4c207
END:VEVENT
END:VCALENDAR