BEGIN:VCALENDAR
VERSION:2.0
PRODID:-//hacksw/handcal//NONSGML v1.0//EN
CALSCALE:GREGORIAN
BEGIN:VEVENT
LOCATION:München
DESCRIPTION:Pjotr Iljitsch Tschaikowsky: Konzert für Violine und Orchester D-Dur op. 35Nikolai Rimski-Korsakow: Scheherazade – Symphonische Suite für Orchester op. 35\, restricted_html
DTSTART:20260118T143000Z
DTEND:20260118T143000Z
SUMMARY:Faszination Klassik
URL;VALUE=URI:https://muenchner-symphoniker.de/de/node/1545
DTSTAMP:20260420T102809Z
UID:69e5e39973ee1
END:VEVENT
END:VCALENDAR